{
 "currentVersion": 10.91,
 "serviceDescription": "Aerial2022",
 "name": "Aerial2022",
 "description": "",
 "extent": {
  "xmin": 345000,
  "ymin": 1455000,
  "xmax": 545000,
  "ymax": 1800000,
  "spatialReference": {
   "wkid": 103022,
   "latestWkid": 6438
  }
 },
 "initialExtent": {
  "xmin": 345000,
  "ymin": 1455000,
  "xmax": 545000,
  "ymax": 1800000,
  "spatialReference": {
   "wkid": 103022,
   "latestWkid": 6438
  }
 },
 "fullExtent": {
  "xmin": 345000,
  "ymin": 1455000,
  "xmax": 545000,
  "ymax": 1800000,
  "spatialReference": {
   "wkid": 103022,
   "latestWkid": 6438
  }
 },
 "hasMultidimensions": false,
 "pixelSizeX": 0.25,
 "pixelSizeY": 0.25,
 "datasetFormat": "MrSID",
 "uncompressedSize": 4416000000000,
 "blockWidth": 1024,
 "blockHeight": 128,
 "compressionType": "Wavelet (MG4)",
 "bandNames": [
  "Band_1",
  "Band_2",
  "Band_3",
  "Band_4"
 ],
 "allowCopy": true,
 "allowAnalysis": true,
 "bandCount": 4,
 "pixelType": "U8",
 "minPixelSize": 0.4340277777777778,
 "maxPixelSize": 746.5277777777777,
 "copyrightText": "",
 "serviceDataType": "esriImageServiceDataTypeProcessed",
 "serviceSourceType": "esriImageServiceSourceTypeDataset",
 "minValues": [
  0,
  0,
  0,
  0
 ],
 "maxValues": [
  206,
  179,
  160,
  255
 ],
 "meanValues": [
  63.101080432173,
  61.557743097239,
  44.816086434574,
  129.27635054022
 ],
 "stdvValues": [
  62.871061188492,
  60.897488032659,
  44.753107216956,
  126.32334026396
 ],
 "objectIdField": "",
 "fields": [],
 "capabilities": "Image,Metadata,Mensuration",
 "defaultMosaicMethod": "Center",
 "allowedMosaicMethods": "",
 "sortField": "",
 "sortValue": null,
 "sortAscending": true,
 "mosaicOperator": "First",
 "defaultCompressionQuality": 75,
 "defaultResamplingMethod": "Bilinear",
 "maxImageHeight": 4100,
 "maxImageWidth": 15000,
 "singleFusedMapCache": true,
 "tileInfo": {
  "rows": 512,
  "cols": 512,
  "dpi": 96,
  "format": "JPEG",
  "compressionQuality": 75,
  "origin": {
   "x": -17791300,
   "y": 2.3981099999999993E7
  },
  "spatialReference": {
   "wkid": 103022,
   "latestWkid": 6438
  },
  "lods": [
   {
    "level": 0,
    "resolution": 746.5277777777777,
    "scale": 860000
   },
   {
    "level": 1,
    "resolution": 694.4444444444445,
    "scale": 800000
   },
   {
    "level": 2,
    "resolution": 434.02777777777777,
    "scale": 500000
   },
   {
    "level": 3,
    "resolution": 217.01388888888889,
    "scale": 250000
   },
   {
    "level": 4,
    "resolution": 151.9097222222222,
    "scale": 175000
   },
   {
    "level": 5,
    "resolution": 86.80555555555556,
    "scale": 100000
   },
   {
    "level": 6,
    "resolution": 62.5,
    "scale": 72000
   },
   {
    "level": 7,
    "resolution": 43.40277777777778,
    "scale": 50000
   },
   {
    "level": 8,
    "resolution": 31.25,
    "scale": 36000
   },
   {
    "level": 9,
    "resolution": 20.833333333333332,
    "scale": 24000
   },
   {
    "level": 10,
    "resolution": 15.625,
    "scale": 18000
   },
   {
    "level": 11,
    "resolution": 13.020833333333332,
    "scale": 15000
   },
   {
    "level": 12,
    "resolution": 8.680555555555555,
    "scale": 10000
   },
   {
    "level": 13,
    "resolution": 6.510416666666666,
    "scale": 7500
   },
   {
    "level": 14,
    "resolution": 4.340277777777778,
    "scale": 5000
   },
   {
    "level": 15,
    "resolution": 2.170138888888889,
    "scale": 2500
   },
   {
    "level": 16,
    "resolution": 0.8680555555555555,
    "scale": 1000
   },
   {
    "level": 17,
    "resolution": 0.43402777777777773,
    "scale": 500
   }
  ]
 },
 "storageInfo": {
  "storageFormat": "esriMapCacheStorageModeCompactV2",
  "packetSize": 128
 },
 "cacheType": "Map",
 "allowRasterFunction": true,
 "rasterFunctionInfos": [
  {
   "name": "None",
   "description": "",
   "help": ""
  }
 ],
 "rasterTypeInfos": [
  {
   "name": "Raster Dataset",
   "description": "Supports all ArcGIS Raster Datasets",
   "help": ""
  }
 ],
 "mensurationCapabilities": "Basic",
 "hasHistograms": true,
 "hasColormap": false,
 "hasRasterAttributeTable": false,
 "minScale": 860000,
 "maxScale": 500,
 "exportTilesAllowed": false,
 "supportsStatistics": false,
 "supportsAdvancedQueries": false,
 "editFieldsInfo": null,
 "ownershipBasedAccessControlForRasters": null,
 "allowComputeTiePoints": false,
 "useStandardizedQueries": true,
 "advancedQueryCapabilities": {
  "useStandardizedQueries": true,
  "supportsStatistics": false,
  "supportsOrderBy": false,
  "supportsDistinct": false,
  "supportsPagination": false
 },
 "spatialReference": {
  "wkid": 103022,
  "latestWkid": 6438
 }
}
