{
 "currentVersion": 10.91,
 "serviceDescription": "Lake County Florida Aerial 1947",
 "name": "HistoricalAerials/Aerial1947",
 "description": "Lake County Florida Aerial 1947",
 "extent": {
  "xmin": 348470.5627203854,
  "ymin": 1459354.9048617056,
  "xmax": 544317.8941212533,
  "ymax": 1797646.8019974534,
  "spatialReference": {
   "wkid": 102658,
   "latestWkid": 2236
  }
 },
 "initialExtent": {
  "xmin": 348470.5627203854,
  "ymin": 1459354.9048617056,
  "xmax": 544317.8941212533,
  "ymax": 1797646.8019974534,
  "spatialReference": {
   "wkid": 102658,
   "latestWkid": 2236
  }
 },
 "fullExtent": {
  "xmin": 348470.5627203854,
  "ymin": 1459354.9048617056,
  "xmax": 544317.8941212533,
  "ymax": 1797646.8019974534,
  "spatialReference": {
   "wkid": 102658,
   "latestWkid": 2236
  }
 },
 "pixelSizeX": 1.4451971088348823,
 "pixelSizeY": 1.4578970834281348,
 "bandCount": 2,
 "pixelType": "U8",
 "minPixelSize": 0,
 "maxPixelSize": 0,
 "copyrightText": "",
 "serviceDataType": "esriImageServiceDataTypeGeneric",
 "minValues": [
  0,
  0
 ],
 "maxValues": [
  248,
  255
 ],
 "meanValues": [
  70.448546739984,
  120.22440429432
 ],
 "stdvValues": [
  76.173639238623,
  126.0263875135
 ],
 "objectIdField": "",
 "fields": [],
 "capabilities": "Image,Metadata,Mensuration",
 "defaultMosaicMethod": "Center",
 "allowedMosaicMethods": "",
 "sortField": "",
 "sortValue": null,
 "sortAscending": true,
 "mosaicOperator": "First",
 "defaultCompressionQuality": 75,
 "defaultResamplingMethod": "Bilinear",
 "maxImageHeight": 4100,
 "maxImageWidth": 15000,
 "allowRasterFunction": true,
 "rasterFunctionInfos": [
  {
   "name": "None",
   "description": "",
   "help": ""
  }
 ],
 "rasterTypeInfos": [
  {
   "name": "Raster Dataset",
   "description": "Supports all ArcGIS Raster Datasets",
   "help": ""
  }
 ],
 "mensurationCapabilities": "Basic",
 "hasHistograms": true,
 "hasColormap": false,
 "hasRasterAttributeTable": false,
 "minScale": 0,
 "maxScale": 0,
 "exportTilesAllowed": false,
 "hasMultidimensions": false,
 "supportsStatistics": false,
 "supportsAdvancedQueries": false,
 "editFieldsInfo": null,
 "ownershipBasedAccessControlForRasters": null,
 "allowComputeTiePoints": false,
 "useStandardizedQueries": true,
 "advancedQueryCapabilities": {
  "useStandardizedQueries": true,
  "supportsStatistics": false,
  "supportsOrderBy": false,
  "supportsDistinct": false,
  "supportsPagination": false
 },
 "spatialReference": {
  "wkid": 102658,
  "latestWkid": 2236
 }
}
