{
 "currentVersion": 10.91,
 "serviceDescription": "Lake County Florida Aerial 1972",
 "name": "HistoricalAerials/Aerial1972",
 "description": "Lake County Florida Aerial 1972",
 "extent": {
  "xmin": 348471.4778,
  "ymin": 1459360.2772000001,
  "xmax": 544305.2618,
  "ymax": 1797650.7832000002,
  "spatialReference": {
   "wkid": 102658,
   "latestWkid": 2236
  }
 },
 "initialExtent": {
  "xmin": 348471.4778,
  "ymin": 1459360.2772000001,
  "xmax": 544305.2618,
  "ymax": 1797650.7832000002,
  "spatialReference": {
   "wkid": 102658,
   "latestWkid": 2236
  }
 },
 "fullExtent": {
  "xmin": 348471.4778,
  "ymin": 1459360.2772000001,
  "xmax": 544305.2618,
  "ymax": 1797650.7832000002,
  "spatialReference": {
   "wkid": 102658,
   "latestWkid": 2236
  }
 },
 "pixelSizeX": 0.6676,
 "pixelSizeY": 1.098,
 "bandCount": 2,
 "pixelType": "U8",
 "minPixelSize": 0,
 "maxPixelSize": 0,
 "copyrightText": "",
 "serviceDataType": "esriImageServiceDataTypeGeneric",
 "minValues": [
  0,
  0
 ],
 "maxValues": [
  235,
  255
 ],
 "meanValues": [
  58.175621345029,
  122.93987573099
 ],
 "stdvValues": [
  63.34197515471,
  126.28593751954
 ],
 "objectIdField": "",
 "fields": [],
 "capabilities": "Image,Metadata,Mensuration",
 "defaultMosaicMethod": "Center",
 "allowedMosaicMethods": "",
 "sortField": "",
 "sortValue": null,
 "sortAscending": true,
 "mosaicOperator": "First",
 "defaultCompressionQuality": 75,
 "defaultResamplingMethod": "Bilinear",
 "maxImageHeight": 4100,
 "maxImageWidth": 15000,
 "allowRasterFunction": true,
 "rasterFunctionInfos": [
  {
   "name": "None",
   "description": "",
   "help": ""
  }
 ],
 "rasterTypeInfos": [
  {
   "name": "Raster Dataset",
   "description": "Supports all ArcGIS Raster Datasets",
   "help": ""
  }
 ],
 "mensurationCapabilities": "Basic",
 "hasHistograms": true,
 "hasColormap": false,
 "hasRasterAttributeTable": false,
 "minScale": 0,
 "maxScale": 0,
 "exportTilesAllowed": false,
 "hasMultidimensions": false,
 "supportsStatistics": false,
 "supportsAdvancedQueries": false,
 "editFieldsInfo": null,
 "ownershipBasedAccessControlForRasters": null,
 "allowComputeTiePoints": false,
 "useStandardizedQueries": true,
 "advancedQueryCapabilities": {
  "useStandardizedQueries": true,
  "supportsStatistics": false,
  "supportsOrderBy": false,
  "supportsDistinct": false,
  "supportsPagination": false
 },
 "spatialReference": {
  "wkid": 102658,
  "latestWkid": 2236
 }
}
