{
 "currentVersion": 10.91,
 "serviceDescription": "Lake County Florida Aerial 1987",
 "name": "HistoricalAerials/Aerial1987",
 "description": "Lake County Florida Aerial 1987",
 "extent": {
  "xmin": 348674.9144999998,
  "ymin": 1459360.1239500013,
  "xmax": 544313.1993000002,
  "ymax": 1797643.88745,
  "spatialReference": {
   "wkid": 102658,
   "latestWkid": 2236
  }
 },
 "initialExtent": {
  "xmin": 348674.9144999998,
  "ymin": 1459360.1239500013,
  "xmax": 544313.1993000002,
  "ymax": 1797643.88745,
  "spatialReference": {
   "wkid": 102658,
   "latestWkid": 2236
  }
 },
 "fullExtent": {
  "xmin": 348674.9144999998,
  "ymin": 1459360.1239500013,
  "xmax": 544313.1993000002,
  "ymax": 1797643.88745,
  "spatialReference": {
   "wkid": 102658,
   "latestWkid": 2236
  }
 },
 "pixelSizeX": 5.140800000000011,
 "pixelSizeY": 5.14069999999998,
 "bandCount": 4,
 "pixelType": "U8",
 "minPixelSize": 0,
 "maxPixelSize": 0,
 "copyrightText": "",
 "serviceDataType": "esriImageServiceDataTypeGeneric",
 "minValues": [
  0,
  0,
  0,
  0
 ],
 "maxValues": [
  255,
  255,
  255,
  255
 ],
 "meanValues": [
  61.590697674419,
  58.239689922481,
  84.530025839793,
  122.71865633075
 ],
 "stdvValues": [
  76.535528668775,
  72.543787122214,
  93.28760453814,
  125.4760156756
 ],
 "objectIdField": "",
 "fields": [],
 "capabilities": "Image,Metadata,Mensuration",
 "defaultMosaicMethod": "Center",
 "allowedMosaicMethods": "",
 "sortField": "",
 "sortValue": null,
 "sortAscending": true,
 "mosaicOperator": "First",
 "defaultCompressionQuality": 75,
 "defaultResamplingMethod": "Bilinear",
 "maxImageHeight": 4100,
 "maxImageWidth": 15000,
 "allowRasterFunction": true,
 "rasterFunctionInfos": [
  {
   "name": "None",
   "description": "",
   "help": ""
  }
 ],
 "rasterTypeInfos": [
  {
   "name": "Raster Dataset",
   "description": "Supports all ArcGIS Raster Datasets",
   "help": ""
  }
 ],
 "mensurationCapabilities": "Basic",
 "hasHistograms": true,
 "hasColormap": false,
 "hasRasterAttributeTable": false,
 "minScale": 0,
 "maxScale": 0,
 "exportTilesAllowed": false,
 "hasMultidimensions": false,
 "supportsStatistics": false,
 "supportsAdvancedQueries": false,
 "editFieldsInfo": null,
 "ownershipBasedAccessControlForRasters": null,
 "allowComputeTiePoints": false,
 "useStandardizedQueries": true,
 "advancedQueryCapabilities": {
  "useStandardizedQueries": true,
  "supportsStatistics": false,
  "supportsOrderBy": false,
  "supportsDistinct": false,
  "supportsPagination": false
 },
 "spatialReference": {
  "wkid": 102658,
  "latestWkid": 2236
 }
}
