{
 "currentVersion": 10.91,
 "serviceDescription": "Lake County Aerial 1998",
 "name": "HistoricalAerials/Aerial1998",
 "description": "Lake County Aerial 1998",
 "extent": {
  "xmin": 348180.0000000001,
  "ymin": 1458680,
  "xmax": 550856,
  "ymax": 1803248,
  "spatialReference": {
   "wkid": 2881,
   "latestWkid": 2881
  }
 },
 "initialExtent": {
  "xmin": 348180.0000000001,
  "ymin": 1458680,
  "xmax": 550856,
  "ymax": 1803248,
  "spatialReference": {
   "wkid": 2881,
   "latestWkid": 2881
  }
 },
 "fullExtent": {
  "xmin": 348180.0000000001,
  "ymin": 1458680,
  "xmax": 550856,
  "ymax": 1803248,
  "spatialReference": {
   "wkid": 2881,
   "latestWkid": 2881
  }
 },
 "pixelSizeX": 1.999999999999999,
 "pixelSizeY": 2,
 "bandCount": 2,
 "pixelType": "U8",
 "minPixelSize": 0,
 "maxPixelSize": 0,
 "copyrightText": "",
 "serviceDataType": "esriImageServiceDataTypeGeneric",
 "minValues": [
  0,
  0
 ],
 "maxValues": [
  255,
  255
 ],
 "meanValues": [
  56.598352941176,
  122.95223529412
 ],
 "stdvValues": [
  61.94829986457,
  125.15740800031
 ],
 "objectIdField": "",
 "fields": [],
 "capabilities": "Image,Metadata,Mensuration",
 "defaultMosaicMethod": "Center",
 "allowedMosaicMethods": "",
 "sortField": "",
 "sortValue": null,
 "sortAscending": true,
 "mosaicOperator": "First",
 "defaultCompressionQuality": 75,
 "defaultResamplingMethod": "Bilinear",
 "maxImageHeight": 4100,
 "maxImageWidth": 15000,
 "allowRasterFunction": true,
 "rasterFunctionInfos": [
  {
   "name": "None",
   "description": "",
   "help": ""
  }
 ],
 "rasterTypeInfos": [
  {
   "name": "Raster Dataset",
   "description": "Supports all ArcGIS Raster Datasets",
   "help": ""
  }
 ],
 "mensurationCapabilities": "Basic",
 "hasHistograms": true,
 "hasColormap": false,
 "hasRasterAttributeTable": false,
 "minScale": 0,
 "maxScale": 0,
 "exportTilesAllowed": false,
 "hasMultidimensions": false,
 "supportsStatistics": false,
 "supportsAdvancedQueries": false,
 "editFieldsInfo": null,
 "ownershipBasedAccessControlForRasters": null,
 "allowComputeTiePoints": false,
 "useStandardizedQueries": true,
 "advancedQueryCapabilities": {
  "useStandardizedQueries": true,
  "supportsStatistics": false,
  "supportsOrderBy": false,
  "supportsDistinct": false,
  "supportsPagination": false
 },
 "spatialReference": {
  "wkid": 2881,
  "latestWkid": 2881
 }
}
