{
 "currentVersion": 10.51,
 "serviceDescription": "SID/Aerial_2017_SID",
 "name": "SID/Aerial_2017_SID",
 "description": "SID/Aerial_2017_SID",
 "extent": {
  "xmin": 345000,
  "ymin": 1455000,
  "xmax": 545000,
  "ymax": 1800000,
  "spatialReference": {
   "wkid": 2881,
   "latestWkid": 2881
  }
 },
 "initialExtent": {
  "xmin": 345000,
  "ymin": 1455000,
  "xmax": 545000,
  "ymax": 1800000,
  "spatialReference": {
   "wkid": 2881,
   "latestWkid": 2881
  }
 },
 "fullExtent": {
  "xmin": 345000,
  "ymin": 1455000,
  "xmax": 545000,
  "ymax": 1800000,
  "spatialReference": {
   "wkid": 2881,
   "latestWkid": 2881
  }
 },
 "heightModelInfo": {
  "heightModel": "orthometric",
  "heightUnit": "meter"
 },
 "pixelSizeX": 0.5,
 "pixelSizeY": 0.5,
 "bandCount": 4,
 "pixelType": "U8",
 "minPixelSize": 0,
 "maxPixelSize": 0,
 "copyrightText": "",
 "serviceDataType": "esriImageServiceDataTypeGeneric",
 "minValues": [
  5,
  33,
  5,
  252
 ],
 "maxValues": [
  255,
  255,
  255,
  255
 ],
 "meanValues": [
  181.40144057623058,
  179.57575030012035,
  166.03433373349353,
  254.83553421368495
 ],
 "stdvValues": [
  73.70171346008422,
  74.68208948592213,
  87.65134479837863,
  0.41064495180200283
 ],
 "objectIdField": "",
 "fields": [],
 "capabilities": "Image,Metadata,Mensuration",
 "defaultMosaicMethod": "Center",
 "allowedMosaicMethods": "",
 "sortField": "",
 "sortValue": null,
 "mosaicOperator": "First",
 "defaultCompressionQuality": 75,
 "defaultResamplingMethod": "Bilinear",
 "maxImageHeight": 4100,
 "maxImageWidth": 15000,
 "allowRasterFunction": true,
 "rasterFunctionInfos": [
  {
   "name": "None",
   "description": "",
   "help": ""
  }
 ],
 "rasterTypeInfos": [
  {
   "name": "Raster Dataset",
   "description": "Supports all ArcGIS Raster Datasets",
   "help": ""
  }
 ],
 "mensurationCapabilities": "Basic",
 "hasHistograms": true,
 "hasColormap": false,
 "hasRasterAttributeTable": false,
 "minScale": 0,
 "maxScale": 0,
 "exportTilesAllowed": false,
 "hasMultidimensions": false,
 "supportsStatistics": false,
 "supportsAdvancedQueries": false,
 "editFieldsInfo": null,
 "ownershipBasedAccessControlForRasters": null,
 "allowComputeTiePoints": false,
 "useStandardizedQueries": true,
 "advancedQueryCapabilities": {
  "useStandardizedQueries": true,
  "supportsStatistics": false,
  "supportsOrderBy": false,
  "supportsDistinct": false,
  "supportsPagination": false
 },
 "spatialReference": {
  "wkid": 2881,
  "latestWkid": 2881
 }
}
