View In:
ArcGIS JavaScript
Lake County BCC Web Map Viewer
Google Earth
ArcMap
View Footprint In:
Lake County BCC Web Map Viewer
Service Description: Lake County Florida Aerial 1958
Name: HistoricalAerials/Aerial1958
Description: Lake County Florida Aerial 1958
Single Fused Map Cache: false
Extent:
XMin: 348469.53391755617
YMin: 1459353.0936782593
XMax: 544313.9972594394
YMax: 1797648.1436599605
Spatial Reference: 102658
(2236)
Initial Extent:
XMin: 348469.53391755617
YMin: 1459353.0936782593
XMax: 544313.9972594394
YMax: 1797648.1436599605
Spatial Reference: 102658
(2236)
Full Extent:
XMin: 348469.53391755617
YMin: 1459353.0936782593
XMax: 544313.9972594394
YMax: 1797648.1436599605
Spatial Reference: 102658
(2236)
Pixel Size X: 2.63058554637246
Pixel Size Y: 2.4110716346186
Band Count: 2
Pixel Type: U8
RasterFunction Infos: {"name":"None","description":"","help":""}
Mensuration Capabilities: Basic
Has Histograms: true
Has Colormap: false
Has Multi Dimensions : false
Rendering Rule:
Min Scale: 0
Max Scale: 0
Copyright Text:
Service Data Type: esriImageServiceDataTypeGeneric
Min Values: 0, 0
Max Values: 255, 255
Mean Values: 59.55424990207599, 119.25538582060334
Standard Deviation Values: 69.68954359052219, 123.55393640477168
Object ID Field:
Fields:
None
Default Mosaic Method: Center
Allowed Mosaic Methods:
SortField:
SortValue: null
Mosaic Operator: First
Default Compression Quality: 75
Default Resampling Method: Bilinear
Max Record Count: null
Max Image Height: 4100
Max Image Width: 15000
Max Download Image Count: null
Max Mosaic Image Count: null
Allow Raster Function: true
Allow Compute TiePoints: false
Supports Statistics: false
Supports Advanced Queries: false
Use StandardizedQueries: true
Raster Type Infos:
Name: Raster Dataset
Description: Supports all ArcGIS Raster Datasets
Help:
Has Raster Attribute Table: false
Edit Fields Info: null
Ownership Based AccessControl For Rasters: null
Child Resources:
Info
Histograms
Key Properties
Legend
MultiDimensionalInfo
rasterFunctionInfos
Supported Operations:
Export Image
Identify
Measure
Compute Histograms
Compute Statistics Histograms
Get Samples
Compute Class Statistics