View In:
ArcGIS JavaScript
Lake County BCC Web Map Viewer
Google Earth
ArcMap
View Footprint In:
Lake County BCC Web Map Viewer
Service Description: Lake County Florida Aerial 1979
Name: HistoricalAerials/Aerial1979
Description: Lake County Florida Aerial 1979
Single Fused Map Cache: false
Extent:
XMin: 348471.01665
YMin: 1459346.2306499998
XMax: 544319.8231500001
YMax: 1797650.73635
Spatial Reference: PROJCS["TNTmips_Georeference",GEOGCS["GCS_North_American_1983_HARN",DATUM["D_North_American_1983_HARN",SPHEROID["GRS_1980",6378137.0,298.257222101]],PRIMEM["Greenwich",0.0],UNIT["Degree",0.0174532925199433]],PROJECTION["Transverse_Mercator"],PARAMETER["false_easting",656167.9790026246],PARAMETER["false_northing",0.0],PARAMETER["central_meridian",-81.0],PARAMETER["scale_factor",0.999941177],PARAMETER["latitude_of_origin",24.33333333333333],UNIT["Foot",0.3048]]
Initial Extent:
XMin: 348471.01665
YMin: 1459346.2306499998
XMax: 544319.8231500001
YMax: 1797650.73635
Spatial Reference: PROJCS["TNTmips_Georeference",GEOGCS["GCS_North_American_1983_HARN",DATUM["D_North_American_1983_HARN",SPHEROID["GRS_1980",6378137.0,298.257222101]],PRIMEM["Greenwich",0.0],UNIT["Degree",0.0174532925199433]],PROJECTION["Transverse_Mercator"],PARAMETER["false_easting",656167.9790026246],PARAMETER["false_northing",0.0],PARAMETER["central_meridian",-81.0],PARAMETER["scale_factor",0.999941177],PARAMETER["latitude_of_origin",24.33333333333333],UNIT["Foot",0.3048]]
Full Extent:
XMin: 348471.01665
YMin: 1459346.2306499998
XMax: 544319.8231500001
YMax: 1797650.73635
Spatial Reference: PROJCS["TNTmips_Georeference",GEOGCS["GCS_North_American_1983_HARN",DATUM["D_North_American_1983_HARN",SPHEROID["GRS_1980",6378137.0,298.257222101]],PRIMEM["Greenwich",0.0],UNIT["Degree",0.0174532925199433]],PROJECTION["Transverse_Mercator"],PARAMETER["false_easting",656167.9790026246],PARAMETER["false_northing",0.0],PARAMETER["central_meridian",-81.0],PARAMETER["scale_factor",0.999941177],PARAMETER["latitude_of_origin",24.33333333333333],UNIT["Foot",0.3048]]
Pixel Size X: 1.0971000000000004
Pixel Size Y: 1.1039000000000003
Band Count: 2
Pixel Type: U8
RasterFunction Infos: {"name":"None","description":"","help":""}
Mensuration Capabilities: Basic
Has Histograms: true
Has Colormap: false
Has Multi Dimensions : false
Rendering Rule:
Min Scale: 0
Max Scale: 0
Copyright Text:
Service Data Type: esriImageServiceDataTypeGeneric
Min Values: 0, 0
Max Values: 255, 255
Mean Values: 62.3090909090908, 121.9787878787878
Standard Deviation Values: 68.90193454484458, 125.84207095710556
Object ID Field:
Fields:
None
Default Mosaic Method: Center
Allowed Mosaic Methods:
SortField:
SortValue: null
Mosaic Operator: First
Default Compression Quality: 75
Default Resampling Method: Bilinear
Max Record Count: null
Max Image Height: 4100
Max Image Width: 15000
Max Download Image Count: null
Max Mosaic Image Count: null
Allow Raster Function: true
Allow Compute TiePoints: false
Supports Statistics: false
Supports Advanced Queries: false
Use StandardizedQueries: true
Raster Type Infos:
Name: Raster Dataset
Description: Supports all ArcGIS Raster Datasets
Help:
Has Raster Attribute Table: false
Edit Fields Info: null
Ownership Based AccessControl For Rasters: null
Child Resources:
Info
Histograms
Key Properties
Legend
MultiDimensionalInfo
rasterFunctionInfos
Supported Operations:
Export Image
Identify
Measure
Compute Histograms
Compute Statistics Histograms
Get Samples
Compute Class Statistics