View In:
ArcGIS JavaScript
Lake County BCC Web Map Viewer
Google Earth
ArcMap
View Footprint In:
Lake County BCC Web Map Viewer
Service Description: Lake County Aerial 2002
Name: HistoricalAerials/Aerial2002
Description: Lake County Aerial 2002
Single Fused Map Cache: false
Extent:
XMin: 348400
YMin: 1459000
XMax: 550000
YMax: 1800000
Spatial Reference: 2881
(2881)
Initial Extent:
XMin: 348400
YMin: 1459000
XMax: 550000
YMax: 1800000
Spatial Reference: 2881
(2881)
Full Extent:
XMin: 348400
YMin: 1459000
XMax: 550000
YMax: 1800000
Spatial Reference: 2881
(2881)
Pixel Size X: 2.0
Pixel Size Y: 2.0
Band Count: 4
Pixel Type: U8
RasterFunction Infos: {"name":"None","description":"","help":""}
Mensuration Capabilities: Basic
Has Histograms: true
Has Colormap: false
Has Multi Dimensions : false
Rendering Rule:
Min Scale: 0
Max Scale: 0
Copyright Text:
Service Data Type: esriImageServiceDataTypeGeneric
Min Values: 0, 0, 0, 0
Max Values: 255, 255, 255, 255
Mean Values: 67.13357142857157, 67.40976190476155, 67.43142857142861, 129.86380952380992
Standard Deviation Values: 69.94277944697868, 70.07966181384808, 69.35869542669118, 126.11328439055583
Object ID Field:
Fields:
None
Default Mosaic Method: Center
Allowed Mosaic Methods:
SortField:
SortValue: null
Mosaic Operator: First
Default Compression Quality: 75
Default Resampling Method: Bilinear
Max Record Count: null
Max Image Height: 4100
Max Image Width: 15000
Max Download Image Count: null
Max Mosaic Image Count: null
Allow Raster Function: true
Allow Compute TiePoints: false
Supports Statistics: false
Supports Advanced Queries: false
Use StandardizedQueries: true
Raster Type Infos:
Name: Raster Dataset
Description: Supports all ArcGIS Raster Datasets
Help:
Has Raster Attribute Table: false
Edit Fields Info: null
Ownership Based AccessControl For Rasters: null
Child Resources:
Info
Histograms
Key Properties
Legend
MultiDimensionalInfo
rasterFunctionInfos
Supported Operations:
Export Image
Identify
Measure
Compute Histograms
Compute Statistics Histograms
Get Samples
Compute Class Statistics