View In:
ArcGIS JavaScript
Lake County BCC Web Map Viewer
ArcGIS Earth
ArcMap
View Footprint In:
Lake County BCC Web Map Viewer
Service Description: 2013 Aerial for Lake County, FL
Name: Aerial2010
Description: 2013 Aerial for Lake County, FL
Single Fused Map Cache: true
Tile Info:
- Height: 512
- Width: 512
- DPI: 96
-
Levels of Detail: 18
- Format: JPEG
- Compression Quality: 75.0
- LERC Error: NaN
- Origin: X: -5120900.0
Y: 9998100.0
- Spatial Reference: 26917
(26917)
Storage Info:
- Storage Format: esriMapCacheStorageModeCompactV2
- Packet Size: 128
Extent:
XMin: 401655
YMin: 3131674
XMax: 469867
YMax: 3243110
Spatial Reference: 26917
(26917)
Initial Extent:
XMin: 401655
YMin: 3131674
XMax: 469867
YMax: 3243110
Spatial Reference: 26917
(26917)
Full Extent:
XMin: 401655
YMin: 3131674
XMax: 469867
YMax: 3243110
Spatial Reference: 26917
(26917)
Pixel Size X: 1.0
Pixel Size Y: 1.0
Band Count: 4
Pixel Type: U8
RasterFunction Infos: {"rasterFunctionInfos": [{
"name": "None",
"description": "",
"help": ""
}]}
Mensuration Capabilities: Basic
Has Histograms: true
Has Colormap: false
Has Multi Dimensions : false
Rendering Rule:
Min Scale: 860000
Max Scale: 500
Copyright Text:
Service Data Type: esriImageServiceDataTypeGeneric
Min Values: 0, 0, 0, 0
Max Values: 233, 223, 214, 255
Mean Values: 60.608517047789, 67.817746131727, 68.065452553745, 145.48336300151
Standard Deviation Values: 56.811424589455, 61.496770003095, 60.783269706156, 125.41400574497
Object ID Field:
Fields:
None
Default Mosaic Method: Center
Allowed Mosaic Methods:
SortField:
SortValue: null
Mosaic Operator: First
Default Compression Quality: 75
Default Resampling Method: Bilinear
Max Record Count: null
Max Image Height: 4100
Max Image Width: 15000
Max Download Image Count: null
Max Mosaic Image Count: null
Allow Raster Function: true
Allow Copy: true
Allow Analysis: true
Allow Compute TiePoints: false
Supports Statistics: false
Supports Advanced Queries: false
Use StandardizedQueries: true
Raster Type Infos:
Name: Raster Dataset
Description: Supports all ArcGIS Raster Datasets
Help:
Has Raster Attribute Table: false
Edit Fields Info: null
Ownership Based AccessControl For Rasters: null
Child Resources:
Info
Histograms
Statistics
Key Properties
Legend
Raster Function Infos
Supported Operations:
Export Image
Identify
Measure
Compute Histograms
Compute Statistics Histograms
Get Samples
Compute Class Statistics
Query Boundary
Compute Pixel Location
Compute Angles
Validate
Project