View In:
ArcGIS JavaScript
Lake County BCC Web Map Viewer
ArcGIS Earth
ArcMap
View Footprint In:
Lake County BCC Web Map Viewer
Service Description: 2017 Aerial Imagery
Name: Aerial2017
Description: 2017 Aerial Imagery
Single Fused Map Cache: true
Tile Info:
- Height: 512
- Width: 512
- DPI: 96
-
Levels of Detail: 18
- Format: JPEG
- Compression Quality: 75.0
- LERC Error: NaN
- Origin: X: -1.77913E7
Y: 2.3981099999999993E7
- Spatial Reference: 2881
(2881)
Storage Info:
- Storage Format: esriMapCacheStorageModeCompactV2
- Packet Size: 128
Extent:
XMin: 345000
YMin: 1455000
XMax: 545000
YMax: 1800000
Spatial Reference: 2881
(2881)
Initial Extent:
XMin: 345000
YMin: 1455000
XMax: 545000
YMax: 1800000
Spatial Reference: 2881
(2881)
Full Extent:
XMin: 345000
YMin: 1455000
XMax: 545000
YMax: 1800000
Spatial Reference: 2881
(2881)
Pixel Size X: 0.5
Pixel Size Y: 0.5
Band Count: 4
Pixel Type: U8
RasterFunction Infos: {"rasterFunctionInfos": [{
"name": "None",
"description": "",
"help": ""
}]}
Mensuration Capabilities: Basic,3D
Has Histograms: true
Has Colormap: false
Has Multi Dimensions : false
Rendering Rule:
Min Scale: 860000
Max Scale: 500
Copyright Text:
Service Data Type: esriImageServiceDataTypeGeneric
Min Values: 5, 33, 5, 252
Max Values: 255, 255, 255, 255
Mean Values: 181.40144057623, 179.57575030012, 166.03433373349, 254.83553421369
Standard Deviation Values: 73.701713460084, 74.682089485922, 87.651344798379, 0.410644951802
Object ID Field:
Fields:
None
Default Mosaic Method: Center
Allowed Mosaic Methods:
SortField:
SortValue: null
Mosaic Operator: First
Default Compression Quality: 75
Default Resampling Method: Bilinear
Max Record Count: null
Max Image Height: 4100
Max Image Width: 15000
Max Download Image Count: null
Max Mosaic Image Count: null
Allow Raster Function: true
Allow Copy: true
Allow Analysis: true
Allow Compute TiePoints: false
Supports Statistics: false
Supports Advanced Queries: false
Use StandardizedQueries: true
Raster Type Infos:
Name: Raster Dataset
Description: Supports all ArcGIS Raster Datasets
Help:
Has Raster Attribute Table: false
Edit Fields Info: null
Ownership Based AccessControl For Rasters: null
Child Resources:
Info
Histograms
Statistics
Key Properties
Legend
Raster Function Infos
Supported Operations:
Export Image
Identify
Measure
Compute Histograms
Compute Statistics Histograms
Get Samples
Compute Class Statistics
Query Boundary
Compute Pixel Location
Compute Angles
Validate
Project