View In:
ArcGIS JavaScript
Lake County BCC Web Map Viewer
ArcGIS Earth
ArcMap
View Footprint In:
Lake County BCC Web Map Viewer
Service Description: Lake County Florida Aerial 1947
Name: HistoricalAerials/Aerial1947
Description: Lake County Florida Aerial 1947
Single Fused Map Cache: false
Extent:
XMin: 348470.5627203854
YMin: 1459354.9048617056
XMax: 544317.8941212533
YMax: 1797646.8019974534
Spatial Reference: 102658
(2236)
Initial Extent:
XMin: 348470.5627203854
YMin: 1459354.9048617056
XMax: 544317.8941212533
YMax: 1797646.8019974534
Spatial Reference: 102658
(2236)
Full Extent:
XMin: 348470.5627203854
YMin: 1459354.9048617056
XMax: 544317.8941212533
YMax: 1797646.8019974534
Spatial Reference: 102658
(2236)
Pixel Size X: 1.4451971088348823
Pixel Size Y: 1.4578970834281348
Band Count: 2
Pixel Type: U8
RasterFunction Infos: {"rasterFunctionInfos": [{
"name": "None",
"description": "",
"help": ""
}]}
Mensuration Capabilities: Basic
Has Histograms: true
Has Colormap: false
Has Multi Dimensions : false
Rendering Rule:
Min Scale: 0
Max Scale: 0
Copyright Text:
Service Data Type: esriImageServiceDataTypeGeneric
Min Values: 0, 0
Max Values: 248, 255
Mean Values: 70.448546739984, 120.22440429432
Standard Deviation Values: 76.173639238623, 126.0263875135
Object ID Field:
Fields:
None
Default Mosaic Method: Center
Allowed Mosaic Methods:
SortField:
SortValue: null
Mosaic Operator: First
Default Compression Quality: 75
Default Resampling Method: Bilinear
Max Record Count: null
Max Image Height: 4100
Max Image Width: 15000
Max Download Image Count: null
Max Mosaic Image Count: null
Allow Raster Function: true
Allow Copy: null
Allow Analysis: null
Allow Compute TiePoints: false
Supports Statistics: false
Supports Advanced Queries: false
Use StandardizedQueries: true
Raster Type Infos:
Name: Raster Dataset
Description: Supports all ArcGIS Raster Datasets
Help:
Has Raster Attribute Table: false
Edit Fields Info: null
Ownership Based AccessControl For Rasters: null
Child Resources:
Info
Histograms
Key Properties
Legend
Raster Function Infos
Supported Operations:
Export Image
Identify
Measure
Compute Histograms
Compute Statistics Histograms
Get Samples
Compute Class Statistics
Query Boundary
Compute Pixel Location
Compute Angles
Validate
Project