View In:
ArcGIS JavaScript
Lake County BCC Web Map Viewer
ArcGIS Earth
ArcMap
View Footprint In:
Lake County BCC Web Map Viewer
Service Description: Lake County Aerial 1998
Name: HistoricalAerials/Aerial1998
Description: Lake County Aerial 1998
Single Fused Map Cache: false
Extent:
XMin: 348180.0000000001
YMin: 1458680
XMax: 550856
YMax: 1803248
Spatial Reference: 2881
(2881)
Initial Extent:
XMin: 348180.0000000001
YMin: 1458680
XMax: 550856
YMax: 1803248
Spatial Reference: 2881
(2881)
Full Extent:
XMin: 348180.0000000001
YMin: 1458680
XMax: 550856
YMax: 1803248
Spatial Reference: 2881
(2881)
Pixel Size X: 1.999999999999999
Pixel Size Y: 2.0
Band Count: 2
Pixel Type: U8
RasterFunction Infos: {"rasterFunctionInfos": [{
"name": "None",
"description": "",
"help": ""
}]}
Mensuration Capabilities: Basic
Has Histograms: true
Has Colormap: false
Has Multi Dimensions : false
Rendering Rule:
Min Scale: 0
Max Scale: 0
Copyright Text:
Service Data Type: esriImageServiceDataTypeGeneric
Min Values: 0, 0
Max Values: 255, 255
Mean Values: 56.598352941176, 122.95223529412
Standard Deviation Values: 61.94829986457, 125.15740800031
Object ID Field:
Fields:
None
Default Mosaic Method: Center
Allowed Mosaic Methods:
SortField:
SortValue: null
Mosaic Operator: First
Default Compression Quality: 75
Default Resampling Method: Bilinear
Max Record Count: null
Max Image Height: 4100
Max Image Width: 15000
Max Download Image Count: null
Max Mosaic Image Count: null
Allow Raster Function: true
Allow Copy: null
Allow Analysis: null
Allow Compute TiePoints: false
Supports Statistics: false
Supports Advanced Queries: false
Use StandardizedQueries: true
Raster Type Infos:
Name: Raster Dataset
Description: Supports all ArcGIS Raster Datasets
Help:
Has Raster Attribute Table: false
Edit Fields Info: null
Ownership Based AccessControl For Rasters: null
Child Resources:
Info
Histograms
Key Properties
Legend
Raster Function Infos
Supported Operations:
Export Image
Identify
Measure
Compute Histograms
Compute Statistics Histograms
Get Samples
Compute Class Statistics
Query Boundary
Compute Pixel Location
Compute Angles
Validate
Project