View In:
ArcGIS JavaScript
Lake County BCC Web Map Viewer
Google Earth
ArcMap
View Footprint In:
Lake County BCC Web Map Viewer
Service Description: geo-referenced image mobile home deployment
Name: Test/MH_Maps
Description: geo-referenced image mobile home deployment
Single Fused Map Cache: false
Extent:
XMin: -9104007.880364627
YMin: 3317522.055287979
XMax: -9093677.085423617
YMax: 3359803.923992809
Spatial Reference: 102100
(3857)
Initial Extent:
XMin: -9104007.880364627
YMin: 3317522.055287979
XMax: -9093677.085423617
YMax: 3359803.923992809
Spatial Reference: 102100
(3857)
Full Extent:
XMin: -9104007.880364627
YMin: 3317522.055287979
XMax: -9093677.085423617
YMax: 3359803.923992809
Spatial Reference: 102100
(3857)
Pixel Size X: 0.22074348164551183
Pixel Size Y: 0.2207434816455304
Band Count: 1
Pixel Type: U8
RasterFunction Infos: {"name":"None","description":"","help":""}
Mensuration Capabilities:
Has Histograms: true
Has Colormap: false
Has Multi Dimensions : false
Rendering Rule:
Min Scale: 0
Max Scale: 0
Copyright Text:
Service Data Type: esriImageServiceDataTypeGeneric
Min Values: 0
Max Values: 1
Mean Values: 0.87902930135161
Standard Deviation Values: 0.32609322328487
Object ID Field:
Fields:
None
Default Mosaic Method: Center
Allowed Mosaic Methods:
SortField:
SortValue: null
Mosaic Operator: First
Default Compression Quality: 75
Default Resampling Method: Bilinear
Max Record Count: null
Max Image Height: 4100
Max Image Width: 15000
Max Download Image Count: null
Max Mosaic Image Count: null
Allow Raster Function: true
Allow Compute TiePoints: false
Supports Statistics: false
Supports Advanced Queries: false
Use StandardizedQueries: true
Raster Type Infos:
Name: Raster Dataset
Description: Supports all ArcGIS Raster Datasets
Help:
Has Raster Attribute Table: false
Edit Fields Info: null
Ownership Based AccessControl For Rasters: null
Child Resources:
Info
Histograms
Key Properties
Legend
MultiDimensionalInfo
rasterFunctionInfos
Supported Operations:
Export Image
Identify
Measure
Compute Histograms
Compute Statistics Histograms
Get Samples
Compute Class Statistics