View In:
ArcGIS JavaScript
Lake County BCC Web Map Viewer
Google Earth
ArcMap
View Footprint In:
Lake County BCC Web Map Viewer
Service Description: Lake County Florida Aerial 1987
Name: HistoricalAerials/Aerial1987
Description: Lake County Florida Aerial 1987
Single Fused Map Cache: false
Extent:
XMin: 348674.9144999998
YMin: 1459360.1239500013
XMax: 544313.1993000002
YMax: 1797643.88745
Spatial Reference: 102658
(2236)
Initial Extent:
XMin: 348674.9144999998
YMin: 1459360.1239500013
XMax: 544313.1993000002
YMax: 1797643.88745
Spatial Reference: 102658
(2236)
Full Extent:
XMin: 348674.9144999998
YMin: 1459360.1239500013
XMax: 544313.1993000002
YMax: 1797643.88745
Spatial Reference: 102658
(2236)
Pixel Size X: 5.140800000000011
Pixel Size Y: 5.14069999999998
Band Count: 4
Pixel Type: U8
RasterFunction Infos: {"name":"None","description":"","help":""}
Mensuration Capabilities: Basic
Has Histograms: true
Has Colormap: false
Has Multi Dimensions : false
Rendering Rule:
Min Scale: 0
Max Scale: 0
Copyright Text:
Service Data Type: esriImageServiceDataTypeGeneric
Min Values: 0, 0, 0, 0
Max Values: 255, 255, 255, 255
Mean Values: 61.590697674418735, 58.239689922480686, 84.53002583979347, 122.7186563307493
Standard Deviation Values: 76.53552866877504, 72.5437871222136, 93.28760453814022, 125.4760156755963
Object ID Field:
Fields:
None
Default Mosaic Method: Center
Allowed Mosaic Methods:
SortField:
SortValue: null
Mosaic Operator: First
Default Compression Quality: 75
Default Resampling Method: Bilinear
Max Record Count: null
Max Image Height: 4100
Max Image Width: 15000
Max Download Image Count: null
Max Mosaic Image Count: null
Allow Raster Function: true
Allow Compute TiePoints: false
Supports Statistics: false
Supports Advanced Queries: false
Use StandardizedQueries: true
Raster Type Infos:
Name: Raster Dataset
Description: Supports all ArcGIS Raster Datasets
Help:
Has Raster Attribute Table: false
Edit Fields Info: null
Ownership Based AccessControl For Rasters: null
Child Resources:
Info
Histograms
Key Properties
Legend
MultiDimensionalInfo
rasterFunctionInfos
Supported Operations:
Export Image
Identify
Measure
Compute Histograms
Compute Statistics Histograms
Get Samples
Compute Class Statistics