View In:
ArcGIS JavaScript
Lake County BCC Web Map Viewer
Google Earth
ArcMap
View Footprint In:
Lake County BCC Web Map Viewer
Service Description: SID/Aerial_2017_SID
Name: SID/Aerial_2017_SID
Description: SID/Aerial_2017_SID
Single Fused Map Cache: false
Extent:
XMin: 345000
YMin: 1455000
XMax: 545000
YMax: 1800000
Spatial Reference: 2881
(2881)
Initial Extent:
XMin: 345000
YMin: 1455000
XMax: 545000
YMax: 1800000
Spatial Reference: 2881
(2881)
Full Extent:
XMin: 345000
YMin: 1455000
XMax: 545000
YMax: 1800000
Spatial Reference: 2881
(2881)
Pixel Size X: 0.5
Pixel Size Y: 0.5
Band Count: 4
Pixel Type: U8
RasterFunction Infos: {"name":"None","description":"","help":""}
Mensuration Capabilities: Basic
Has Histograms: true
Has Colormap: false
Has Multi Dimensions : false
Rendering Rule:
Min Scale: 0
Max Scale: 0
Copyright Text:
Service Data Type: esriImageServiceDataTypeGeneric
Min Values: 5, 33, 5, 252
Max Values: 255, 255, 255, 255
Mean Values: 181.40144057623058, 179.57575030012035, 166.03433373349353, 254.83553421368495
Standard Deviation Values: 73.70171346008422, 74.68208948592213, 87.65134479837863, 0.41064495180200283
Object ID Field:
Fields:
None
Default Mosaic Method: Center
Allowed Mosaic Methods:
SortField:
SortValue: null
Mosaic Operator: First
Default Compression Quality: 75
Default Resampling Method: Bilinear
Max Record Count: null
Max Image Height: 4100
Max Image Width: 15000
Max Download Image Count: null
Max Mosaic Image Count: null
Allow Raster Function: true
Allow Compute TiePoints: false
Supports Statistics: false
Supports Advanced Queries: false
Use StandardizedQueries: true
Raster Type Infos:
Name: Raster Dataset
Description: Supports all ArcGIS Raster Datasets
Help:
Has Raster Attribute Table: false
Edit Fields Info: null
Ownership Based AccessControl For Rasters: null
Child Resources:
Info
Histograms
Key Properties
Legend
MultiDimensionalInfo
rasterFunctionInfos
Supported Operations:
Export Image
Identify
Measure
Compute Histograms
Compute Statistics Histograms
Get Samples
Compute Class Statistics